BEGIN:VCALENDAR
VERSION:2.0
PRODID:-//wp-events-plugin.com//7.2.3.1//EN
TZID:Europe/Stockholm
X-WR-TIMEZONE:Europe/Stockholm
BEGIN:VEVENT
UID:127@elin.se
DTSTART;TZID=Europe/Stockholm;VALUE=DATE:20240416
DTEND;TZID=Europe/Stockholm;VALUE=DATE:20240417
DTSTAMP:20240401T064600Z
URL:https://elin.se/events/partnerdagen/
SUMMARY:Partnerdagen
DESCRIPTION:Sista anmälningsdag är Måndag 8e April. Antalet platser är 
 begränsade och det är först till kvarn som gäller\, så säkra din pla
 ts redan idag!!\n\nVi ses där!\n\n[forminator_form id="34367"]
END:VEVENT
BEGIN:VTIMEZONE
TZID:Europe/Stockholm
X-LIC-LOCATION:Europe/Stockholm
BEGIN:DAYLIGHT
DTSTART:20240331T030000
TZOFFSETFROM:+0100
TZOFFSETTO:+0200
TZNAME:CEST
END:DAYLIGHT
END:VTIMEZONE
END:VCALENDAR