BEGIN:VCALENDAR
VERSION:2.0
PRODID:-//wp-events-plugin.com//7.2.3.1//EN
TZID:Europe/Stockholm
X-WR-TIMEZONE:Europe/Stockholm
BEGIN:VEVENT
UID:327@elin.se
DTSTART;TZID=Europe/Stockholm:20250910T160000
DTEND;TZID=Europe/Stockholm:20250910T200000
DTSTAMP:20250815T165950Z
URL:https://elin.se/events/infordagarna-team-flamman-event/
SUMMARY:Infördagarna (TEAM) - Flamman event
DESCRIPTION:
END:VEVENT
BEGIN:VTIMEZONE
TZID:Europe/Stockholm
X-LIC-LOCATION:Europe/Stockholm
BEGIN:DAYLIGHT
DTSTART:20250330T030000
TZOFFSETFROM:+0100
TZOFFSETTO:+0200
TZNAME:CEST
END:DAYLIGHT
END:VTIMEZONE
END:VCALENDAR