BEGIN:VCALENDAR
VERSION:2.0
PRODID:-//wp-events-plugin.com//7.2.3.1//EN
TZID:Europe/Stockholm
X-WR-TIMEZONE:Europe/Stockholm
BEGIN:VEVENT
UID:128@elin.se
DTSTART;TZID=Europe/Stockholm:20240125T120000
DTEND;TZID=Europe/Stockholm:20240125T130000
DTSTAMP:20240119T101831Z
URL:https://elin.se/events/ic-language-cafe-53/
SUMMARY:IC: Language Cafe
DESCRIPTION:
END:VEVENT
BEGIN:VTIMEZONE
TZID:Europe/Stockholm
X-LIC-LOCATION:Europe/Stockholm
BEGIN:STANDARD
DTSTART:20231029T020000
TZOFFSETFROM:+0200
TZOFFSETTO:+0100
TZNAME:CET
END:STANDARD
END:VTIMEZONE
END:VCALENDAR